BEGIN:VCALENDAR
PRODID:-//eluceo/ical//2.0/EN
VERSION:2.0
CALSCALE:GREGORIAN
BEGIN:VEVENT
UID:cec9ab57cfac2cafadb9c00ef901d59b
DTSTAMP:20260419T130405Z
SUMMARY:Repas de soutien en faveur de l'Association La Roue qui Marche
DESCRIPTION:Conférencier(s): Soirée dont les bénéfices seront intégral
 ement reversés à l'association La Roue qui Marche. En suivant le lien ci
 -après https://larouequimarche.ch/lassociation/ vous en découvriez plus
  sur le but poursuivi par Sébastien Bailly et tout son Comité.\, ainsi v
 ous comprendrez pourquoi nous avons décidé de les soutenir. Cette soiré
 e sera basée sur l'échange\, l'humour\, le défi\, et la convivialité. 
 Si vous en êtes arrivés jusqu'ici dans la lecture de ce texte c'est qu'i
 l a sucité votre intérêt et que nous aurons la chance de pouvoir vous c
 ompter parmis nous\, nous sommes touchés d'avance par votre présence. Ce
  souper sera le départ d'un défi que les plus sportifs d'entres nous se 
 sont lancés qui consistera à parcourir 280 km et 3'000 m de dénivelé 
 à vélo en une étape\, nous aurons l'occasion de vous présenter tout ce
 la lors de cet événement.Au menuApéritif Salade et son paté de campag
 neDemi-poulet pommes de terre et légumes Dessert surprisePrix CHF 80.- p
 p (hors boissons)Tombola avec de nombreux prix à la clef. 
URL:https://echallens-gros-de-vaud.rotary1990.ch/fr/agenda/show/188170
DTSTART;TZID=Europe/Zurich:20250308T183000
DTEND;TZID=Europe/Zurich:20250308T233000
LOCATION:Salle Polyvalente de Bottens
CATEGORIES:Rotary
END:VEVENT
BEGIN:VTIMEZONE
TZID:Europe/Zurich
BEGIN:STANDARD
DTSTART:20250308T183000
TZNAME:CET
TZOFFSETTO:+0100
TZOFFSETFROM:+0100
END:STANDARD
END:VTIMEZONE
END:VCALENDAR
